BEGIN:VCALENDAR
VERSION:2.0
PRODID:-//DC dVET - ECPv6.15.20//NONSGML v1.0//EN
CALSCALE:GREGORIAN
METHOD:PUBLISH
X-WR-CALNAME:DC dVET
X-ORIGINAL-URL:https://www.dcdualvet.org
X-WR-CALDESC:Events for DC dVET
REFRESH-INTERVAL;VALUE=DURATION:PT1H
X-Robots-Tag:noindex
X-PUBLISHED-TTL:PT1H
BEGIN:VTIMEZONE
TZID:Europe/Zurich
BEGIN:DAYLIGHT
TZOFFSETFROM:+0100
TZOFFSETTO:+0200
TZNAME:CEST
DTSTART:20250330T010000
END:DAYLIGHT
BEGIN:STANDARD
TZOFFSETFROM:+0200
TZOFFSETTO:+0100
TZNAME:CET
DTSTART:20251026T010000
END:STANDARD
BEGIN:DAYLIGHT
TZOFFSETFROM:+0100
TZOFFSETTO:+0200
TZNAME:CEST
DTSTART:20260329T010000
END:DAYLIGHT
BEGIN:STANDARD
TZOFFSETFROM:+0200
TZOFFSETTO:+0100
TZNAME:CET
DTSTART:20261025T010000
END:STANDARD
BEGIN:DAYLIGHT
TZOFFSETFROM:+0100
TZOFFSETTO:+0200
TZNAME:CEST
DTSTART:20270328T010000
END:DAYLIGHT
BEGIN:STANDARD
TZOFFSETFROM:+0200
TZOFFSETTO:+0100
TZNAME:CET
DTSTART:20271031T010000
END:STANDARD
END:VTIMEZONE
BEGIN:VEVENT
DTSTART;TZID=Europe/Zurich:20260421T080000
DTEND;TZID=Europe/Zurich:20260616T170000
DTSTAMP:20260424T131932
CREATED:20260309T081051Z
LAST-MODIFIED:20260415T072927Z
UID:30803-1776758400-1781629200@www.dcdualvet.org
SUMMARY:Invitation à candidater: Formation en ligne – Inclusion du secteur privé dans la formation professionnelle duale en Afrique de l’Ouest 
DESCRIPTION:Invitation à candidater : Formation en ligne – Inclusion du secteur privé dans la formation professionnelle duale en Afrique de l’Ouest  \nChères et chers collègues\,  \nVous êtes impliqué·e dans la formation professionnelle\, le développement des compétences ou la collaboration avec le secteur privé en Afrique de l’Ouest ?\nNous vous invitons à candidater à une formation en ligne animée par notre expert régional\, M. Bahoudé Touré visant à renforcer l’inclusion durable du secteur privé dans les dispositifs de formation professionnelle duale.  \nObjectif de la formation  \nRenforcer les capacités des acteurs publics et privés pour concevoir\, mettre en œuvre et consolider des partenariats efficaces avec le secteur privé dans la formation professionnelle duale\, à partir d’outils concrets et d’expériences régionales.  \nFormat\, dates et contenu  \nLa formation se déroulera en trois sessions en francais en ligne obligatoires de 90 minutes\, aux dates suivantes:  \n\n21 avril 2026 \n\n\n19 mai 2026 \n\n\n16 juin 2026 \n\nLes sessions aborderont notamment :  \n\nla compréhension de la formation duale et des rôles des acteurs ; \n\n\nla sélection et la mobilisation des entreprises (formel et informel) ; \n\n\nla construction de partenariats durables et l’assurance qualité. \n\nLes échanges s’appuieront sur des outils pratiques\, des études de cas ouest-africaines et des travaux interactifs.  \nLivrables pour les participant·e·s  \n\nOutils opérationnels (cartographie des acteurs\, matrices de sélection\, modèles de partenariat\, outils de suivi) \n\n\nSupports pédagogiques et exercices pratiques \n\n\nRéférences méthodologiques directement applicables dans votre contexte professionnel \n\nEn cas de participation réussie\, un certificat DC dVET sera délivré à chaque participant.  \nModalités de candidature  \n⚠️ Le nombre de places est limité afin de garantir la qualité des échanges et l’interactivité de la formation.   \nLes personnes intéressées sont invitées à soumettre leur candidature via un formulaire d’inscription en ligne\, comprenant :  \n\ndes informations professionnelles de base ; \n\n\nune courte note de motivation précisant l’intérêt pour la formation et l’utilisation envisagée des outils présentés. \n\n👉 Les modalités détaillées et le formulaire d’inscription sont disponibles via le lien d’enregistrement dédié.  \nAvec nos salutations les plus cordiales\,  \nL’équipe DC dVET & IFEF 
URL:https://www.dcdualvet.org/dcevent/invitation-a-candidater-formation-en-ligne-inclusion-du-secteur-prive-dans-la-formation-professionnelle-duale-en-afrique-de-l/
LOCATION:En ligne (français)
END:VEVENT
BEGIN:VEVENT
DTSTART;TZID=Europe/Zurich:20260506T100000
DTEND;TZID=Europe/Zurich:20260506T120000
DTSTAMP:20260424T131932
CREATED:20260421T112555Z
LAST-MODIFIED:20260421T112555Z
UID:31044-1778061600-1778068800@www.dcdualvet.org
SUMMARY:Webinar: Skills on the move – How migration intersects with dual VET
DESCRIPTION:Dear colleagues and partners of the DC dVET\,\n\nAs part of the DC dVET 10-Year Anniversary Webinar Series\, we warmly invite you to an interactive BarCamp-style webinar exploring how skills-related and voluntary migration intersects with dual VET in partner countries: Skills on the Move – How Migration Intersects with Dual VET\n\nDate: Wednesday\, 6 May 2026\nTime: 10:00–12:00 CET\n\nAcross many DC dVET partner contexts\, migration is an increasingly relevant factor shaping labour markets\, employer engagement\, and VET reforms\, even where projects do not explicitly focus on migration. This webinar offers space to jointly reflect on these dynamics and to discuss constructive\, opportunity‑oriented approaches that go beyond risk‑focused narratives.\nWhat to expect:\n\nA short evidence‑based input on the nexus of migration\, development and skills\nPanel Discussion\, bringing together four complementary perspectives:\n\n\nDr. Susanne Schultz (Bertelsmann Stiftung) – Expert on Transnational Skills Partnerships (TSPs)\, providing insights on opportunities\, trade‑offs\, and evidence gaps in TSP approaches.\nDuška Jajagin (Energotehnika Južna Bačka) – Company Perspective from a High‑Emigration Context\, providing insights into why companies continue to invest in training\, and how they cope with high mobility.\nRepresentative from the GIZ (tbc) – Fair Migration Specialist\, providing insight on fair migration principles\, ethical recruitment\, and implications for dual VET projects.\nAndrea Frkanova (IOM) – Regional Labour Mobility Coordinator\, providing insights into current migration policy developments in Europe and what implementers should know.\n\n\nBarCamp Couches\n\nAfter the panel\, participants will join one of four practitioner‑oriented breakout sessions. Each session is hosted by an expert and/or practitioner and structured as an open exchange.\nWhy participate?\n\nGain practical insights into how migration affects dual VET projects\nExchange experiences with fellow project implementers and partners\nStrengthen your ability to discuss migration in a balanced way\nBecome part of an ongoing community of practice\n\nPlease register here\nWe look forward to your participation and to a dynamic exchange!\nThe DC dVET Team
URL:https://www.dcdualvet.org/dcevent/webinar-skills-on-the-move-how-migration-intersects-with-dual-vet/
LOCATION:Online (English)
CATEGORIES:DCdVET
END:VEVENT
BEGIN:VEVENT
DTSTART;VALUE=DATE:20260511
DTEND;VALUE=DATE:20260513
DTSTAMP:20260424T131932
CREATED:20260417T105939Z
LAST-MODIFIED:20260417T110313Z
UID:31020-1778457600-1778630399@www.dcdualvet.org
SUMMARY:The Future of Development Co-operation  Charting strategic directions
DESCRIPTION:International development co-operation is at a turning point\, with major structural changes. This is a moment for renewal of purpose\, priorities and power dynamics. Geopolitical and economic priorities are shifting\, public resources for development are tightening\, and delivering impact has become a defining test of legitimacy. Meanwhile\, demands are rising for development co-operation that promotes trade\, investment\, and security\, leading to inclusive economies\, peace\, and shared prosperity.\n \nThis conference will focus on action\, connecting geopolitical realities with development priorities and translating vision into practical strategic directions. Development co-operation leaders will leave with renewed purpose\, clearer priorities and actionable pathways for impact.\n \nJoin political leaders\, senior policy makers\, thought leaders\, private sector players\, and civil society actors from across the world. The agenda will include keynote speeches\, panel discussions\, and interactive roundtables\, where participants will share visions for the future\, challenge assumptions\, and identify practical ways forward\, shaping the development policies at the frontlines of humanity’s greatest challenges. 
URL:https://www.dcdualvet.org/dcevent/31020/
CATEGORIES:General,Information Event
END:VEVENT
BEGIN:VEVENT
DTSTART;TZID=Europe/Zurich:20260512T110000
DTEND;TZID=Europe/Zurich:20260512T120000
DTSTAMP:20260424T131932
CREATED:20260417T105730Z
LAST-MODIFIED:20260417T105730Z
UID:31018-1778583600-1778587200@www.dcdualvet.org
SUMMARY:Advancing a Greener and Productive Future through Skills: Introducing the SPEED Methodology (ILO)
DESCRIPTION:The Skills for Productivity\, Environment and Economic Diversification (SPEED) methodology is the ILO’s updated sectoral approach to anticipating and addressing skills needs in the context of the green transition. Building on more than a decade of experience with the Skills for Trade and Economic Diversification (STED) methodology\, SPEED provides a systematic\, sector focused framework to identify current and future skills needs\, diagnose system‑wide constraints\, and support sectoral development that is productive\, environmentally sustainable and socially inclusive. \n  \nThis webinar will present the core elements of the SPEED approach\, explain how it integrates environmental sustainability with sectoral development\, and highlight its practical application through country experience from Ghana and Namibia. Participants will gain insights into how SPEED can support skills diagnostics\, policy alignment\, stakeholder engagement and actionable recommendations and implementation.
URL:https://www.dcdualvet.org/dcevent/advancing-a-greener-and-productive-future-through-skills-introducing-the-speed-methodology-ilo/
CATEGORIES:General,Information Event,Trainings & Educations
END:VEVENT
BEGIN:VEVENT
DTSTART;TZID=Europe/Zurich:20260619T091500
DTEND;TZID=Europe/Zurich:20260619T133000
DTSTAMP:20260424T131932
CREATED:20260417T110140Z
LAST-MODIFIED:20260417T110140Z
UID:31022-1781860500-1781875800@www.dcdualvet.org
SUMMARY:Crisis as a catalyst for innovation? Dual vocational education and training after Covid-19
DESCRIPTION:The conference will feature presentations on new research into the impact of the Covid-19 pandemic on vocational education and training by researchers from the Swiss Federal University for Vocational Education and Training SFUVET and the University of Applied Sciences of Northwestern Switzerland FHNW. \nThe findings are based on the project ‘Short- and long-term impacts of Covid-19 on vocational education and training’\, which was carried out as part of the Swiss National Science Foundation’s national research programme 80\, ‘Covid-19 in Society’. \nIn a series of short presentations\, speakers will explore how – and whether – processes and practices in company-based training changed during the pandemic. Topics include the health and well-being of apprentices\, training practices within companies\, and transitions within and beyond dual vocational education and training. Particular attention will be paid to the innovations and experiences that have remained relevant beyond the pandemic. \nThe panel discussion brings together former apprentices\, VET trainers and VET experts to discuss their experiences and examine the extent to which the crisis acted as a catalyst for innovation. Together\, they will explore long-term challenges\, opportunities and potential lessons for the future development of vocational education and training.
URL:https://www.dcdualvet.org/dcevent/crisis-as-a-catalyst-for-innovation-dual-vocational-education-and-training-after-covid-19/
CATEGORIES:General,Information Event
END:VEVENT
END:VCALENDAR